BEGIN:VCALENDAR
VERSION:2.0
PRODID:-//Squash Yukon - ECPv6.15.20//NONSGML v1.0//EN
CALSCALE:GREGORIAN
METHOD:PUBLISH
X-WR-CALNAME:Squash Yukon
X-ORIGINAL-URL:https://squashyukon.yk.ca
X-WR-CALDESC:Events for Squash Yukon
REFRESH-INTERVAL;VALUE=DURATION:PT1H
X-Robots-Tag:noindex
X-PUBLISHED-TTL:PT1H
BEGIN:VTIMEZONE
TZID:America/Whitehorse
BEGIN:STANDARD
TZOFFSETFROM:-0700
TZOFFSETTO:-0700
TZNAME:MST
DTSTART:20250101T000000
END:STANDARD
END:VTIMEZONE
BEGIN:VEVENT
DTSTART;TZID=America/Whitehorse:20260417T170000
DTEND;TZID=America/Whitehorse:20260419T200000
DTSTAMP:20260419T164912
CREATED:20260128T202556Z
LAST-MODIFIED:20260418T021923Z
UID:10000188-1776445200-1776628800@squashyukon.yk.ca
SUMMARY:Yukon Open Squash Tournament
DESCRIPTION:2026 Yukon Open: Presented by Yukon Tree Services\nOur year-end tournament has some exciting new additions this year – check it out: \n\n\nFriday night pizza around 6:30\, followed by Friday social at the Kopper King – great food and some of the most “cost efficient” beverages in town! \n\n\nSaturday morning child supervision from 9:00 am to 1:00 pm in the aerobics room (across from the Better Bodies desk). This will be provided by two experienced babysitters who are familiar to the squash community. It is geared towards kids under 5\, but older kids are welcome! \n\n\nSilent auction over the whole weekend – raising funds to help improve our squash courts and spectator area. We’ve got some great auction items\, including rafting trips\, overnight accommodations at local cabins\, merchandise from local businesses\, lessons from coach Gyan\, a fishing trip – and much more! \n\n\nSaturday night banquet and awards ceremony! Held at the Linda Rapp building at the Robert Service campground from 5:00 pm to 11:00 pm. Your dinner and a drink ticket are included in your tournament registration (plus more beverages available for purchase). We’ll be announcing the league winners\, club champs winners\, the 2026 Marie Desmarais Award recipient\, the 2025-2026 Iron Racquet Award recipients\, the winner of the Golden Clipboard\, and more! Don’t miss this chance to share some laughs with your squash community \n\n\nSunday noon “lightning round”. One rally takes it all! Never played in a lightning round before? Better show up and find out what the fuss is about 🙂 \n\n\nBetter Bodies has given us use of the aerobics room for the duration of the tournament – hang out\, bid on silent auction items\, eat\, stretch\, play with your kids – we’ve got this space set aside for us \n\n\nAGM on the Sunday afternoon at 2:00 pm(more on that below). \n\n\nWe’d like to extent a HUGE thanks to our sponsors Yukon Tree Services\, Spectrum Security\, The Electrical Shop\, RK4\, Winterlong Brewing\, and Whiskey Jacks Pub and Grill \n\n\n2026 Yukon Open \nTournament Itinerary \n  \n\n\n\nFriday April 17\n5:00 pm to 9:00 pm\nTournament games – refer to the bracket for your game times\n\n\n6:30 pm\nPizza arrives – served in the aerobics room\n\n\n9:00 pm to…whenever you leave!\nTournament social at the Kopper King\n\n\nSaturday April 18\n9:00 am to 11:00 am\nCoffee and breakfast in the aerobics room courtesy of Seeds and Riverside Grocery\n\n\n9:00 am to 5:00 pm\nTournament games – refer to the bracket for your game times\n\n\n9:00 am to 1:00 pm\nKid Zone in the aerobics room – supervision by Keely Kovac and Ailie Robertson\n\n\n5:00 pm – 11:00 pm \n \nBANQUET AND AWARDS CEREMONY in the Linda Rapp Building at the Robert Service Campground \n·       5:00 pm – doors open\, drinks and snacks \n·       6:30 pm – dinner served (lasagna\, caesar salad\, garlic bread\, dessert) \n·       6:30 pm to 8:00 pm – awards ceremony (over dinner) \n·       8:00 pm to 11:00 pm – social time \n·       Drinks will be beer and wine\, $6/drink\, cash bar \n·       Banquet ticket and one drink ticket included in your tournament entry \n·       Door prizes \n·       Tournament participants +1 tickets available for $20 cash in advance (at tourney or banquet)\n\n\nSunday April 19\n9:00 am to 10:00 am\nCoffee and breakfast in the aerobics room courtesy of Sip and Swallow Cafe\n\n\n9:00 am to 12:30 pm\nTournament games (including the finals!)\n\n\n1:00 pm – 1:45 pm\nLIGHTNING ROUND at Better Bodies court 2 \n·       $2 to enter \n·       1 rally games – if you win\, you stay on the court \n·       Last player standing wins – and takes all the money in the pot!\n\n\n1:30 pm to 2:30 pm\nTournament games (including the finals!)\n\n\n2:30 pm – 3:30 pm\nSquash Yukon Annual General Meeting in the aerobics room at Better Bodies. Includes: \n·       President’s Report \n·       Treasurer’s Report \n·       Coach’s Report \n·       Motions \n·       Nominations and Elections of 2026-2027 Officers\n\n\n\n  \n\n—  \n\nJeff Muirhead\, Squash Yukon President
URL:https://squashyukon.yk.ca/event/yukon-open/
LOCATION:Better Bodies\, 122 Industrial Rd.\, Whitehorse\, Yukon\, Y1A 2T9\, Canada
ATTACH;FMTTYPE=image/png:https://squashyukon.yk.ca/wp-content/uploads/2026/01/YukonOpen2026Header.png
END:VEVENT
END:VCALENDAR